BEGIN:VCALENDAR
VERSION:2.0
PRODID:-//eventon.com NONSGML v1.0//EN
BEGIN:VEVENT
UID:69eb6a8b23149
DTSTAMP:20260424T150515
DTSTART:20260526T170000Z
DTEND:20260526T190000Z
LOCATION:Roskilde Museum Sankt Ols Stræde 3\,  4000 Roskilde
SUMMARY:Da standardbilen indtog vejene og Roskilde Ring
DESCRIPTION: Roskilde museum inviterer til en aften i susende fart – i bilens tegn – når Martin Zerlang tager os med gennem bilens kulturhistorie. Glæd dig til at høre\,  hvordan bilens sejrsgang gennem de sidste næsten 150 år har haft enorm betydning for vores opfattelse af landskabet\,  opbygningen af vores byer[..]
END:VEVENT
END:VCALENDAR