BEGIN:VCALENDAR
VERSION:2.0
PRODID:-//eventon.com NONSGML v1.0//EN
BEGIN:VEVENT
UID:69eb67f196837
DTSTAMP:20260424T145409
DTSTART:20260605T080000Z
DTEND:20260605T120000Z
LOCATION:Roskilde Ring Park Søndreringvej 33\,  4000 Roskilde
SUMMARY:RINGEN RUNDT 2026 - ROSKILDE RING PARK
DESCRIPTION: Der går rygter om\,  at noget spændende er i gærde i Roskildes gamle grusgrav – i dag Roskilde Ring Park… og det er ganske rigtigt! På dagen 5. juni\,  hvor Danmarks første etablerede motorsportsbane\,  Roskilde Ring\,  åbnede i 1955\,  vækkes historien til live igen. Du er inviteret til Ringen Rundt[..]
END:VEVENT
END:VCALENDAR